{"text_format":"1","workbook":"xlsx","n_sheets":8,"sheets":["Chart1","Barcodes","Stickers","Slips","Dessert Stickers","Mashgin","Barcodes_old","Sheet3"],"not_rendered":{"charts":2,"images":93,"macros":1,"external_links":0,"defined_names":92,"comments":0,"pivot_tables":0},"unopened":[{"sheet":"Chart1","index":0,"reason":"not_a_worksheet"}],"bounds":{"document_bytes":16777216,"sheet_cells":100000,"rows_first":2000,"rows_last":500,"rows_between":2000,"halvings":0,"cell_chars":16384,"cell_head_chars":4096},"cells_cut":0,"cells_raw":0,"read":"whole","date_system":"1900"}

{"sheet":"Barcodes","index":1,"n_rows":231,"n_cols":10,"rows_kept":231,"cut":false,"hidden":false,"merged":[]}
["Print","*2000006*","Feature Sandwich - 7.49","GG_7"]
["SKU #","Bar Code"]
[2000000,"*2000000*","Entrée - Chef - 6.49","GG_1",null,null,null,{"$f":"C3","v":"Entrée - Chef - 6.49"},{"$f":"D3","v":"GG_1"},0]
[{"$f":"Barcodes_old!A3+1","v":2000001},"*2000001*","Feature Entree includes Eska Water - 8.49","GG_2",null,null,null,{"$f":"C4","v":"Feature Entree includes Eska Water - 8.49"},{"$f":"D4","v":"GG_2"},0]
[{"$f":"Barcodes_old!A4+1","v":2000002},"*2000002*","Pasta Large - 5.75","GG_3",null,null,null,"Pasta Large - 5.75","GG_3",0]
[{"$f":"Barcodes_old!A5+1","v":2000003},"*2000003*","Pasta Small - 4.17","GG_4",null,null,null,"Pasta Small - 4.17","GG_4",0]
[{"$f":"Barcodes_old!A6+1","v":2000004},"*2000004*","Side of Potatoes & Vegetables - 1.49","GG_5",null,null,null,"Side of Potatoes & Vegetables - 1.49","GG_5",0]
[{"$f":"Barcodes_old!A7+1","v":2000005},"*2000005*","Premium Entrée (Umami - Pho/Miso, Noodle, Rice Bowls) - 9.99","GG_6",null,null,null,"Premium Entrée (Umami - Pho/Miso, Noodle, Rice Bowls) - 9.99","GG_6",0]
[{"$f":"Barcodes_old!A8+1","v":2000006},"*2000006*","Feature Sandwich - 7.49","GG_7",null,null,null,"Feature Sandwich - 7.49","GG_7",0]
[{"$f":"Barcodes_old!A9+1","v":2000007},"*2000007*","Panini With Veggies - 5.65","GG_8",null,null,null,"Panini With Veggies - 5.65","GG_8",0]
[{"$f":"Barcodes_old!A10+1","v":2000008},"*2000008*","Grilled Wrap - 5.65","GG_9",null,null,null,"Grilled Wrap - 5.65","GG_9",0]
[{"$f":"Barcodes_old!A11+1","v":2000009},"*2000009*","Panini with Meat, Veggies and Cheese - 6.65","GG_10",null,null,null,"Panini with Meat, Veggies and Cheese - 6.65","GG_10",0]
[{"$f":"Barcodes_old!A12+1","v":2000010},"*2000010*","Fresh Made Kettle Chips (3 oz) - 1.49","GG_11",null,null,null,"Fresh Made Kettle Chips (3 oz) - 1.49","GG_11",0]
[{"$f":"Barcodes_old!A13+1","v":2000011},"*2000011*","Loaf Slice basic - 1.89","GG_12"]
[{"$f":"Barcodes_old!A14+1","v":2000012},"*2000012*","Tarts Basic (AP - Granny) - 1.39","GG_13",null,null,null,{"$f":"C15","v":"Tarts Basic (AP - Granny) - 1.39"},{"$f":"D15","v":"GG_13"},0]
[{"$f":"Barcodes_old!A15+1","v":2000013},"*2000013*","Squares - 1.99","GG_14"]
[{"$f":"Barcodes_old!A16+1","v":2000014},"*2000014*","Craveworthy Cookie - 1.99","GG_15"]
[{"$f":"Barcodes_old!A17+1","v":2000015},"*2000015*"]
[{"$f":"Barcodes_old!A18+1","v":2000016},"*2000016*",null,null,null,null,null,{"$f":"C19","v":0},{"$f":"D19","v":0},0]
[{"$f":"Barcodes_old!A19+1","v":2000017},"*2000017*",null,null,null,null,null,0,0,0]
[{"$f":"Barcodes_old!A20+1","v":2000018},"*2000018*",null,null,null,null,null,0,0,0]
[{"$f":"Barcodes_old!A21+1","v":2000019},"*2000019*"]
[{"$f":"Barcodes_old!A22+1","v":2000020},"*2000020*",null,null,null,null,null,{"$f":"C23","v":0},{"$f":"D23","v":0},2]
[{"$f":"Barcodes_old!A23+1","v":2000021},"*2000021*",null,null,null,null,null,{"$f":"C24","v":0},{"$f":"D24","v":0},2]
[{"$f":"Barcodes_old!A24+1","v":2000022},"*2000022*",null,null,null,null,null,0,0,2]
[{"$f":"Barcodes_old!A25+1","v":2000023},"*2000023*",null,null,null,null,null,0,0,2]
[{"$f":"Barcodes_old!A26+1","v":2000024},"*2000024*",null,null,null,null,null,0,0,2]
[{"$f":"Barcodes_old!A27+1","v":2000025},"*2000025*",null,null,null,null,null,0,0,2]
[{"$f":"Barcodes_old!A28+1","v":2000026},"*2000026*",null,null,null,null,null,0,0,2]
[{"$f":"Barcodes_old!A29+1","v":2000027},"*2000027*",null,null,null,null,null,0,0,2]
[{"$f":"Barcodes_old!A30+1","v":2000028},"*2000028*",null,null,null,null,null,0,0,2]
[{"$f":"Barcodes_old!A31+1","v":2000029},"*2000029*",null,null,null,null,null,0,0,2]
[{"$f":"Barcodes_old!A32+1","v":2000030},"*2000030*"]
[{"$f":"Barcodes_old!A33+1","v":2000031},"*2000031*"]
[{"$f":"Barcodes_old!A34+1","v":2000032},"*2000032*",null,null,null,null,null,{"$f":"C35","v":0},{"$f":"D35","v":0},0]
[{"$f":"Barcodes_old!A35+1","v":2000033},"*2000033*"]
[{"$f":"Barcodes_old!A36+1","v":2000034},"*2000034*",null,null,null,null,null,{"$f":"C37","v":0},{"$f":"D37","v":0},0]
[{"$f":"Barcodes_old!A37+1","v":2000035},"*2000035*"]
[{"$f":"Barcodes_old!A38+1","v":2000036},"*2000036*"]
[{"$f":"Barcodes_old!A39+1","v":2000037},"*2000037*"]
[{"$f":"Barcodes_old!A40+1","v":2000038},"*2000038*"]
[{"$f":"Barcodes_old!A41+1","v":2000039},"*2000039*"]
[{"$f":"Barcodes_old!A42+1","v":2000040},"*2000040*"]
[{"$f":"Barcodes_old!A43+1","v":2000041},"*2000041*",null,null,null,null,null,{"$f":"C44","v":0},{"$f":"D44","v":0},0]
[{"$f":"Barcodes_old!A44+1","v":2000042},"*2000042*"]
[{"$f":"Barcodes_old!A45+1","v":2000043},"*2000043*"]
[{"$f":"Barcodes_old!A46+1","v":2000044},"*2000044*"]
[{"$f":"Barcodes_old!A47+1","v":2000045},"*2000045*"]
[{"$f":"Barcodes_old!A48+1","v":2000046},"*2000046*"]
[{"$f":"Barcodes_old!A49+1","v":2000047},"*2000047*"]
[{"$f":"Barcodes_old!A50+1","v":2000048},"*2000048*"]
[{"$f":"Barcodes_old!A51+1","v":2000049},"*2000049*"]
[{"$f":"Barcodes_old!A52+1","v":2000050},"*2000050*"]
[{"$f":"Barcodes_old!A53+1","v":2000051},"*2000051*",null,null,null,null,null,{"$f":"C54","v":0},{"$f":"D54","v":0},2]
[{"$f":"Barcodes_old!A54+1","v":2000052},"*2000052*",null,null,null,null,null,{"$f":"C55","v":0},{"$f":"D55","v":0},2]
[{"$f":"Barcodes_old!A55+1","v":2000053},"*2000053*",null,null,null,null,null,0,0,2]
[{"$f":"Barcodes_old!A56+1","v":2000054},"*2000054*",null,null,null,null,null,0,0,2]
[{"$f":"Barcodes_old!A57+1","v":2000055},"*2000055*",null,null,null,null,null,0,0,2]
[{"$f":"Barcodes_old!A58+1","v":2000056},"*2000056*",null,null,null,null,null,0,0,2]
[{"$f":"Barcodes_old!A59+1","v":2000057},"*2000057*"]
[{"$f":"Barcodes_old!A60+1","v":2000058},"*2000058*"]
[{"$f":"Barcodes_old!A61+1","v":2000059},"*2000059*"]
[{"$f":"Barcodes_old!A62+1","v":2000060},"*2000060*"]
[{"$f":"Barcodes_old!A63+1","v":2000061},"*2000061*"]
[{"$f":"Barcodes_old!A64+1","v":2000062},"*2000062*"]
[{"$f":"Barcodes_old!A65+1","v":2000063},"*2000063*"]
[{"$f":"Barcodes_old!A66+1","v":2000064},"*2000064*"]
[{"$f":"Barcodes_old!A67+1","v":2000065},"*2000065*"]
[{"$f":"Barcodes_old!A68+1","v":2000066},"*2000066*"]
[{"$f":"Barcodes_old!A69+1","v":2000067},"*2000067*"]
[{"$f":"Barcodes_old!A70+1","v":2000068},"*2000068*",null,null,null,null,null,{"$f":"C71","v":0},{"$f":"D71","v":0},0]
[{"$f":"Barcodes_old!A71+1","v":2000069},"*2000069*",null,null,null,null,null,{"$f":"C72","v":0},{"$f":"D72","v":0},0]
[{"$f":"Barcodes_old!A72+1","v":2000070},"*2000070*",null,null,null,null,null,0,0,0]
[{"$f":"Barcodes_old!A73+1","v":2000071},"*2000071*"]
[{"$f":"Barcodes_old!A74+1","v":2000072},"*2000072*"]
[{"$f":"Barcodes_old!A75+1","v":2000073},"*2000073*"]
[{"$f":"Barcodes_old!A76+1","v":2000074},"*2000074*"]
[{"$f":"Barcodes_old!A77+1","v":2000075},"*2000075*"]
[{"$f":"Barcodes_old!A78+1","v":2000076},"*2000076*"]
[{"$f":"Barcodes_old!A79+1","v":2000077},"*2000077*"]
[{"$f":"Barcodes_old!A80+1","v":2000078},"*2000078*"]
[{"$f":"Barcodes_old!A81+1","v":2000079},"*2000079*"]
[{"$f":"Barcodes_old!A82+1","v":2000080},"*2000080*"]
[{"$f":"Barcodes_old!A83+1","v":2000081},"*2000081*"]
[{"$f":"Barcodes_old!A84+1","v":2000082},"*2000082*"]
[{"$f":"Barcodes_old!A85+1","v":2000083},"*2000083*"]
[{"$f":"Barcodes_old!A86+1","v":2000084},"*2000084*"]
[{"$f":"Barcodes_old!A87+1","v":2000085},"*2000085*"]
[{"$f":"Barcodes_old!A88+1","v":2000086},"*2000086*"]
[{"$f":"Barcodes_old!A89+1","v":2000087},"*2000087*"]
[{"$f":"Barcodes_old!A90+1","v":2000088},"*2000088*",null,null,null,null,null,{"$f":"C91","v":0},{"$f":"D91","v":0},0]
[{"$f":"Barcodes_old!A91+1","v":2000089},"*2000089*"]
[{"$f":"Barcodes_old!A92+1","v":2000090},"*2000090*"]
[{"$f":"Barcodes_old!A93+1","v":2000091},"*2000091*"]
[{"$f":"Barcodes_old!A94+1","v":2000092},"*2000092*"]
[{"$f":"Barcodes_old!A95+1","v":2000093},"*2000093*"]
[{"$f":"Barcodes_old!A96+1","v":2000094},"*2000094*"]
[{"$f":"Barcodes_old!A97+1","v":2000095},"*2000095*"]
[{"$f":"Barcodes_old!A98+1","v":2000096},"*2000096*"]
[{"$f":"Barcodes_old!A99+1","v":2000097},"*2000097*"]
[{"$f":"Barcodes_old!A100+1","v":2000098},"*2000098*"]
[{"$f":"Barcodes_old!A101+1","v":2000099},"*2000099*"]
[{"$f":"Barcodes_old!A102+1","v":2000100},"*2000100*"]
[{"$f":"Barcodes_old!A103+1","v":2000101},"*2000101*"]
[{"$f":"Barcodes_old!A104+1","v":2000102},"*2000102*"]
[{"$f":"Barcodes_old!A105+1","v":2000103},"*2000103*"]
[{"$f":"Barcodes_old!A106+1","v":2000104},"*2000104*"]
[{"$f":"Barcodes_old!A107+1","v":2000105},"*2000105*"]
[{"$f":"Barcodes_old!A108+1","v":2000106},"*2000106*"]
[{"$f":"Barcodes_old!A109+1","v":2000107},"*2000107*"]
[{"$f":"Barcodes_old!A110+1","v":2000108},"*2000108*"]
[{"$f":"Barcodes_old!A111+1","v":2000109},"*2000109*"]
[{"$f":"Barcodes_old!A112+1","v":2000110},"*2000110*"]
[{"$f":"Barcodes_old!A113+1","v":2000111},"*2000111*"]
[{"$f":"Barcodes_old!A114+1","v":2000112},"*2000112*"]
[{"$f":"Barcodes_old!A115+1","v":2000113},"*2000113*"]
[{"$f":"Barcodes_old!A116+1","v":2000114},"*2000114*"]
[{"$f":"Barcodes_old!A117+1","v":2000115},"*2000115*"]
[{"$f":"Barcodes_old!A118+1","v":2000116},"*2000116*"]
[{"$f":"Barcodes_old!A119+1","v":2000117},"*2000117*"]
[{"$f":"Barcodes_old!A120+1","v":2000118},"*2000118*"]
[{"$f":"Barcodes_old!A121+1","v":2000119},"*2000119*"]
[{"$f":"Barcodes_old!A122+1","v":2000120},"*2000120*",null,null,null,null,null,{"$f":"C123","v":0},{"$f":"D123","v":0},0]
[{"$f":"Barcodes_old!A123+1","v":2000121},"*2000121*",null,null,null,null,null,0,0,0]
[{"$f":"Barcodes_old!A124+1","v":2000122},"*2000122*",null,null,null,null,null,0,0,0]
[{"$f":"Barcodes_old!A125+1","v":2000123},"*2000123*",null,null,null,null,null,0,0,0]
[{"$f":"Barcodes_old!A126+1","v":2000124},"*2000124*",null,null,null,null,null,0,0,0]
[{"$f":"Barcodes_old!A127+1","v":2000125},"*2000125*"]
[{"$f":"Barcodes_old!A128+1","v":2000126},"*2000126*"]
[{"$f":"Barcodes_old!A129+1","v":2000127},"*2000127*"]
[{"$f":"Barcodes_old!A130+1","v":2000128},"*2000128*"]
[{"$f":"Barcodes_old!A131+1","v":2000129},"*2000129*"]
[{"$f":"Barcodes_old!A132+1","v":2000130},"*2000130*",null,null,null,null,null,{"$f":"C133","v":0},{"$f":"D133","v":0},0]
[{"$f":"Barcodes_old!A133+1","v":2000131},"*2000131*",null,null,null,null,null,0,0,0]
[{"$f":"Barcodes_old!A134+1","v":2000132},"*2000132*",null,null,null,null,null,0,0,0]
[{"$f":"Barcodes_old!A135+1","v":2000133},"*2000133*",null,null,null,null,null,0,0,0]
[{"$f":"Barcodes_old!A136+1","v":2000134},"*2000134*",null,null,null,null,null,0,0,0]
[{"$f":"Barcodes_old!A137+1","v":2000135},"*2000135*",null,null,null,null,null,0,0,0]
[{"$f":"Barcodes_old!A138+1","v":2000136},"*2000136*",null,null,null,null,null,0,0,0]
[{"$f":"Barcodes_old!A139+1","v":2000137},"*2000137*",null,null,null,null,null,0,0,0]
[{"$f":"Barcodes_old!A140+1","v":2000138},"*2000138*"]
[{"$f":"Barcodes_old!A141+1","v":2000139},"*2000139*"]
[{"$f":"Barcodes_old!A142+1","v":2000140},"*2000140*",null,null,null,null,null,{"$f":"C143","v":0},{"$f":"D143","v":0},0]
[{"$f":"Barcodes_old!A143+1","v":2000141},"*2000141*",null,null,null,null,null,0,0,0]
[{"$f":"Barcodes_old!A144+1","v":2000142},"*2000142*",null,null,null,null,null,0,0,0]
[{"$f":"Barcodes_old!A145+1","v":2000143},"*2000143*",null,null,null,null,null,0,0,0]
[{"$f":"Barcodes_old!A146+1","v":2000144},"*2000144*"]
[{"$f":"Barcodes_old!A147+1","v":2000145},"*2000145*"]
[{"$f":"Barcodes_old!A148+1","v":2000146},"*2000146*"]
[{"$f":"Barcodes_old!A149+1","v":2000147},"*2000147*"]
[{"$f":"Barcodes_old!A150+1","v":2000148},"*2000148*"]
[{"$f":"Barcodes_old!A151+1","v":2000149},"*2000149*"]
[{"$f":"Barcodes_old!A152+1","v":2000150},"*2000150*"]
[{"$f":"Barcodes_old!A153+1","v":2000151},"*2000151*"]
[{"$f":"Barcodes_old!A154+1","v":2000152},"*2000152*"]
[{"$f":"Barcodes_old!A155+1","v":2000153},"*2000153*"]
[{"$f":"Barcodes_old!A156+1","v":2000154},"*2000154*"]
[{"$f":"Barcodes_old!A157+1","v":2000155},"*2000155*"]
[{"$f":"Barcodes_old!A158+1","v":2000156},"*2000156*"]
[{"$f":"Barcodes_old!A159+1","v":2000157},"*2000157*"]
[{"$f":"Barcodes_old!A160+1","v":2000158},"*2000158*"]
[{"$f":"Barcodes_old!A161+1","v":2000159},"*2000159*"]
[{"$f":"Barcodes_old!A162+1","v":2000160},"*2000160*"]
[{"$f":"Barcodes_old!A163+1","v":2000161},"*2000161*"]
[{"$f":"Barcodes_old!A164+1","v":2000162},"*2000162*"]
[{"$f":"Barcodes_old!A165+1","v":2000163},"*2000163*"]
[{"$f":"Barcodes_old!A166+1","v":2000164},"*2000164*"]
[{"$f":"Barcodes_old!A167+1","v":2000165},"*2000165*"]
[{"$f":"Barcodes_old!A168+1","v":2000166},"*2000166*"]
[{"$f":"Barcodes_old!A169+1","v":2000167},"*2000167*"]
[{"$f":"Barcodes_old!A170+1","v":2000168},"*2000168*"]
[{"$f":"Barcodes_old!A171+1","v":2000169},"*2000169*"]
[{"$f":"Barcodes_old!A172+1","v":2000170},"*2000170*"]
[{"$f":"Barcodes_old!A173+1","v":2000171},"*2000171*"]
[{"$f":"Barcodes_old!A174+1","v":2000172},"*2000172*",null,null,null,null,null,{"$f":"C175","v":0},{"$f":"D175","v":0},0]
[{"$f":"Barcodes_old!A175+1","v":2000173},"*2000173*",null,null,null,null,null,0,0,0]
[{"$f":"Barcodes_old!A176+1","v":2000174},"*2000174*",null,null,null,null,null,0,0,0]
[{"$f":"Barcodes_old!A177+1","v":2000175},"*2000175*",null,null,null,null,null,0,0,0]
[{"$f":"Barcodes_old!A178+1","v":2000176},"*2000176*"]
[{"$f":"Barcodes_old!A179+1","v":2000177},"*2000177*",null,null,null,null,null,{"$f":"C180","v":0},{"$f":"D180","v":0},0]
[{"$f":"Barcodes_old!A180+1","v":2000178},"*2000178*",null,null,null,null,null,0,0,0]
[{"$f":"Barcodes_old!A181+1","v":2000179},"*2000179*",null,null,null,null,null,0,0,0]
[{"$f":"Barcodes_old!A182+1","v":2000180},"*2000180*",null,null,null,null,null,0,0,0]
[{"$f":"Barcodes_old!A183+1","v":2000181},"*2000181*"]
[{"$f":"Barcodes_old!A184+1","v":2000182},"*2000182*"]
[{"$f":"Barcodes_old!A185+1","v":2000183},"*2000183*",null,null,null,null,null,{"$f":"C186","v":0},{"$f":"D186","v":0},0]
[{"$f":"Barcodes_old!A186+1","v":2000184},"*2000184*",null,null,null,null,null,0,0,0]
[{"$f":"Barcodes_old!A187+1","v":2000185},"*2000185*",null,null,null,null,null,0,0,0]
[{"$f":"Barcodes_old!A188+1","v":2000186},"*2000186*",null,null,null,null,null,0,0,0]
[{"$f":"Barcodes_old!A189+1","v":2000187},"*2000187*"]
[{"$f":"Barcodes_old!A190+1","v":2000188},"*2000188*"]
[{"$f":"Barcodes_old!A191+1","v":2000189},"*2000189*"]
[{"$f":"Barcodes_old!A192+1","v":2000190},"*2000190*"]
[{"$f":"Barcodes_old!A193+1","v":2000191},"*2000191*"]
[{"$f":"Barcodes_old!A194+1","v":2000192},"*2000192*",null,null,null,null,null,{"$f":"C195","v":0},{"$f":"D195","v":0},0]
[{"$f":"Barcodes_old!A195+1","v":2000193},"*2000193*",null,null,null,null,null,0,0,0]
[{"$f":"Barcodes_old!A196+1","v":2000194},"*2000194*",null,null,null,null,null,0,0,0]
[{"$f":"Barcodes_old!A197+1","v":2000195},"*2000195*",null,null,null,null,null,0,0,0]
[{"$f":"Barcodes_old!A198+1","v":2000196},"*2000196*",null,null,null,null,null,0,0,0]
[{"$f":"Barcodes_old!A199+1","v":2000197},"*2000197*",null,null,null,null,null,0,0,0]
[{"$f":"Barcodes_old!A200+1","v":2000198},"*2000198*"]
[{"$f":"Barcodes_old!A201+1","v":2000199},"*2000199*",null,null,null,null,null,{"$f":"C202","v":0},{"$f":"D202","v":0},1]
[{"$f":"Barcodes_old!A202+1","v":2000200},"*2000200*",null,null,null,null,null,{"$f":"C203","v":0},{"$f":"D203","v":0},1]
[{"$f":"Barcodes_old!A203+1","v":2000201},"*2000201*",null,null,null,null,null,0,0,1]
[{"$f":"Barcodes_old!A204+1","v":2000202},"*2000202*",null,null,null,null,null,0,0,1]
[{"$f":"Barcodes_old!A205+1","v":2000203},"*2000203*",null,null,null,null,null,0,0,1]
[{"$f":"Barcodes_old!A206+1","v":2000204},"*2000204*",null,null,null,null,null,0,0,1]
[{"$f":"Barcodes_old!A207+1","v":2000205},"*2000205*",null,null,null,null,null,0,0,1]
[{"$f":"Barcodes_old!A208+1","v":2000206},"*2000206*",null,null,null,null,null,0,0,1]
[{"$f":"Barcodes_old!A209+1","v":2000207},"*2000207*",null,null,null,null,null,0,0,1]
[{"$f":"Barcodes_old!A210+1","v":2000208},"*2000208*",null,null,null,null,null,0,0,1]
[{"$f":"Barcodes_old!A211+1","v":2000209},"*2000209*"]
[{"$f":"Barcodes_old!A212+1","v":2000210},"*2000210*"]
[{"$f":"Barcodes_old!A213+1","v":2000211},"*2000211*"]
[{"$f":"Barcodes_old!A214+1","v":2000212},"*2000212*"]
[{"$f":"Barcodes_old!A215+1","v":2000213},"*2000213*"]
[{"$f":"Barcodes_old!A216+1","v":2000214},"*2000214*"]
[{"$f":"Barcodes_old!A217+1","v":2000215},"*2000215*"]
[{"$f":"Barcodes_old!A218+1","v":2000216},"*2000216*"]
[{"$f":"Barcodes_old!A219+1","v":2000217},"*2000217*"]
[{"$f":"Barcodes_old!A220+1","v":2000218},"*2000218*"]
[{"$f":"Barcodes_old!A221+1","v":2000219},"*2000219*"]
[{"$f":"Barcodes_old!A222+1","v":2000220},"*2000220*"]
[{"$f":"Barcodes_old!A223+1","v":2000221},"*2000221*",null,null,null,null,null,{"$f":"C224","v":0},{"$f":"D224","v":0},0]
[{"$f":"Barcodes_old!A224+1","v":2000222},"*2000222*",null,null,null,null,null,{"$f":"C225","v":0},{"$f":"D225","v":0},0]
[{"$f":"Barcodes_old!A225+1","v":2000223},"*2000223*",null,null,null,null,null,0,0,0]
[{"$f":"Barcodes_old!A226+1","v":2000224},"*2000224*",null,null,null,null,null,0,0,0]
[{"$f":"Barcodes_old!A227+1","v":2000225},"*2000225*"]
[{"$f":"Barcodes_old!A228+1","v":2000226},"*2000226*"]
[{"$f":"Barcodes_old!A229+1","v":2000227},"*2000227*"]
[{"$f":"Barcodes_old!A230+1","v":2000228},"*2000228*"]

{"sheet":"Stickers","index":2,"n_rows":30,"n_cols":8,"rows_kept":30,"cut":false,"hidden":false,"merged":[[24,3,24,4],[29,3,29,4],[26,3,26,4],[27,3,27,4],[18,6,18,7],[20,3,20,4],[21,3,21,4],[23,3,23,4],[29,6,29,7],[20,6,20,7],[21,6,21,7],[23,6,23,7],[24,6,24,7],[26,6,26,7],[27,6,27,7],[17,3,17,4],[18,3,18,4],[11,6,11,7],[12,6,12,7],[14,6,14,7],[15,6,15,7],[17,6,17,7],[11,3,11,4],[12,3,12,4],[14,3,14,4],[15,3,15,4],[5,6,5,7],[6,6,6,7],[8,6,8,7],[9,6,9,7],[5,3,5,4],[6,3,6,4],[8,3,8,4],[9,3,9,4],[2,3,2,4],[3,3,3,4],[2,6,2,7],[3,6,3,7],[26,0,26,1],[14,0,14,1],[15,0,15,1],[17,0,17,1],[18,0,18,1],[8,0,8,1],[9,0,9,1],[11,0,11,1],[12,0,12,1],[2,0,2,1],[3,0,3,1],[5,0,5,1],[6,0,6,1],[27,0,27,1],[29,0,29,1],[20,0,20,1],[21,0,21,1],[23,0,23,1],[24,0,24,1]]}
[]
[null,{"$f":"Barcodes!B1","v":"*2000006*"},null,null,{"$f":"B2","v":"*2000006*"},null,null,{"$f":"B2","v":"*2000006*"}]
[{"$f":"Barcodes!C1","v":"Feature Sandwich - 7.49"},null,null,{"$f":"$A$3","v":"Feature Sandwich - 7.49"},null,null,{"$f":"$A$3","v":"Feature Sandwich - 7.49"}]
[]
[null,{"$f":"B2","v":"*2000006*"},null,null,{"$f":"B2","v":"*2000006*"},null,null,{"$f":"B2","v":"*2000006*"}]
[{"$f":"$A$3","v":"Feature Sandwich - 7.49"},null,null,{"$f":"$A$3","v":"Feature Sandwich - 7.49"},null,null,{"$f":"$A$3","v":"Feature Sandwich - 7.49"}]
[]
[null,{"$f":"B5","v":"*2000006*"},null,null,{"$f":"E5","v":"*2000006*"},null,null,{"$f":"H5","v":"*2000006*"}]
[{"$f":"$A$3","v":"Feature Sandwich - 7.49"},null,null,{"$f":"$A$3","v":"Feature Sandwich - 7.49"},null,null,{"$f":"$A$3","v":"Feature Sandwich - 7.49"}]
[]
[null,{"$f":"B8","v":"*2000006*"},null,null,{"$f":"E8","v":"*2000006*"},null,null,{"$f":"H8","v":"*2000006*"}]
[{"$f":"$A$3","v":"Feature Sandwich - 7.49"},null,null,{"$f":"$A$3","v":"Feature Sandwich - 7.49"},null,null,{"$f":"$A$3","v":"Feature Sandwich - 7.49"}]
[]
[null,{"$f":"B11","v":"*2000006*"},null,null,{"$f":"E11","v":"*2000006*"},null,null,{"$f":"H11","v":"*2000006*"}]
[{"$f":"$A$3","v":"Feature Sandwich - 7.49"},null,null,{"$f":"$A$3","v":"Feature Sandwich - 7.49"},null,null,{"$f":"$A$3","v":"Feature Sandwich - 7.49"}]
[]
[null,{"$f":"B14","v":"*2000006*"},null,null,{"$f":"E14","v":"*2000006*"},null,null,{"$f":"H14","v":"*2000006*"}]
[{"$f":"$A$3","v":"Feature Sandwich - 7.49"},null,null,{"$f":"$A$3","v":"Feature Sandwich - 7.49"},null,null,{"$f":"$A$3","v":"Feature Sandwich - 7.49"}]
[]
[null,{"$f":"B17","v":"*2000006*"},null,null,{"$f":"E17","v":"*2000006*"},null,null,{"$f":"H17","v":"*2000006*"}]
[{"$f":"$A$3","v":"Feature Sandwich - 7.49"},null,null,{"$f":"$A$3","v":"Feature Sandwich - 7.49"},null,null,{"$f":"$A$3","v":"Feature Sandwich - 7.49"}]
[]
[null,{"$f":"B2","v":"*2000006*"},null,null,{"$f":"B2","v":"*2000006*"},null,null,{"$f":"H20","v":"*2000006*"}]
[{"$f":"$A$3","v":"Feature Sandwich - 7.49"},null,null,{"$f":"$A$3","v":"Feature Sandwich - 7.49"},null,null,{"$f":"$A$3","v":"Feature Sandwich - 7.49"}]
[]
[null,{"$f":"B23","v":"*2000006*"},null,null,{"$f":"E23","v":"*2000006*"},null,null,{"$f":"H23","v":"*2000006*"}]
[{"$f":"$A$3","v":"Feature Sandwich - 7.49"},null,null,{"$f":"$A$3","v":"Feature Sandwich - 7.49"},null,null,{"$f":"$A$3","v":"Feature Sandwich - 7.49"}]
[]
[null,{"$f":"B26","v":"*2000006*"},null,null,{"$f":"E26","v":"*2000006*"},null,null,{"$f":"H26","v":"*2000006*"}]
[{"$f":"$A$3","v":"Feature Sandwich - 7.49"},null,null,{"$f":"$A$3","v":"Feature Sandwich - 7.49"},null,null,{"$f":"$A$3","v":"Feature Sandwich - 7.49"}]

{"sheet":"Slips","index":3,"n_rows":15,"n_cols":11,"rows_kept":15,"cut":false,"hidden":false,"merged":[]}
[{"$f":"Barcodes_old!C1","v":"Sashimi Salad 11.10"},{"$f":"Barcodes_old!B1","v":"*2000016*"},null,{"$f":"A1","v":"Sashimi Salad 11.10"},{"$f":"B1","v":"*2000016*"},null,{"$f":"A1","v":"Sashimi Salad 11.10"},{"$f":"B1","v":"*2000016*"},null,{"$f":"A1","v":"Sashimi Salad 11.10"},{"$f":"B1","v":"*2000016*"}]
[]
[{"$f":"A1","v":"Sashimi Salad 11.10"},{"$f":"B1","v":"*2000016*"},null,{"$f":"A1","v":"Sashimi Salad 11.10"},{"$f":"B1","v":"*2000016*"},null,{"$f":"A1","v":"Sashimi Salad 11.10"},{"$f":"B1","v":"*2000016*"},null,{"$f":"A1","v":"Sashimi Salad 11.10"},{"$f":"B1","v":"*2000016*"}]
[]
[{"$f":"A3","v":"Sashimi Salad 11.10"},{"$f":"B3","v":"*2000016*"},null,{"$f":"A3","v":"Sashimi Salad 11.10"},{"$f":"B3","v":"*2000016*"},null,{"$f":"A3","v":"Sashimi Salad 11.10"},{"$f":"B3","v":"*2000016*"},null,{"$f":"A3","v":"Sashimi Salad 11.10"},{"$f":"B3","v":"*2000016*"}]
[]
[{"$f":"A5","v":"Sashimi Salad 11.10"},{"$f":"B5","v":"*2000016*"},null,{"$f":"A5","v":"Sashimi Salad 11.10"},{"$f":"B5","v":"*2000016*"},null,{"$f":"A5","v":"Sashimi Salad 11.10"},{"$f":"B5","v":"*2000016*"},null,{"$f":"A5","v":"Sashimi Salad 11.10"},{"$f":"B5","v":"*2000016*"}]
[]
[{"$f":"A7","v":"Sashimi Salad 11.10"},{"$f":"B7","v":"*2000016*"},null,{"$f":"A7","v":"Sashimi Salad 11.10"},{"$f":"B7","v":"*2000016*"},null,{"$f":"A7","v":"Sashimi Salad 11.10"},{"$f":"B7","v":"*2000016*"},null,{"$f":"A7","v":"Sashimi Salad 11.10"},{"$f":"B7","v":"*2000016*"}]
[]
[{"$f":"A9","v":"Sashimi Salad 11.10"},{"$f":"B9","v":"*2000016*"},null,{"$f":"A9","v":"Sashimi Salad 11.10"},{"$f":"B9","v":"*2000016*"},null,{"$f":"A9","v":"Sashimi Salad 11.10"},{"$f":"B9","v":"*2000016*"},null,{"$f":"A9","v":"Sashimi Salad 11.10"},{"$f":"B9","v":"*2000016*"}]
[]
[{"$f":"A11","v":"Sashimi Salad 11.10"},{"$f":"B11","v":"*2000016*"},null,{"$f":"A11","v":"Sashimi Salad 11.10"},{"$f":"B11","v":"*2000016*"},null,{"$f":"A11","v":"Sashimi Salad 11.10"},{"$f":"B11","v":"*2000016*"},null,{"$f":"A11","v":"Sashimi Salad 11.10"},{"$f":"B11","v":"*2000016*"}]
[]
[{"$f":"A13","v":"Sashimi Salad 11.10"},{"$f":"B13","v":"*2000016*"},null,{"$f":"A13","v":"Sashimi Salad 11.10"},{"$f":"B13","v":"*2000016*"},null,{"$f":"A13","v":"Sashimi Salad 11.10"},{"$f":"B13","v":"*2000016*"},null,{"$f":"A13","v":"Sashimi Salad 11.10"},{"$f":"B13","v":"*2000016*"}]

{"sheet":"Dessert Stickers","index":4,"n_rows":20,"n_cols":11,"rows_kept":20,"cut":false,"hidden":false,"merged":[]}
[{"$f":"Barcodes_old!C1","v":"Sashimi Salad 11.10"},{"$f":"Barcodes_old!B1","v":"*2000016*"},null,{"$f":"A1","v":"Sashimi Salad 11.10"},{"$f":"B1","v":"*2000016*"},null,{"$f":"D1","v":"Sashimi Salad 11.10"},{"$f":"E1","v":"*2000016*"},null,{"$f":"G1","v":"Sashimi Salad 11.10"},{"$f":"H1","v":"*2000016*"}]
[{"$f":"A1","v":"Sashimi Salad 11.10"},{"$f":"B1","v":"*2000016*"},null,{"$f":"D1","v":"Sashimi Salad 11.10"},{"$f":"E1","v":"*2000016*"},null,{"$f":"D2","v":"Sashimi Salad 11.10"},{"$f":"E2","v":"*2000016*"},null,{"$f":"G2","v":"Sashimi Salad 11.10"},{"$f":"H2","v":"*2000016*"}]
[{"$f":"A2","v":"Sashimi Salad 11.10"},{"$f":"B2","v":"*2000016*"},null,"Sashimi Salad 11.10","*2000016*",null,"Sashimi Salad 11.10","*2000016*",null,"Sashimi Salad 11.10","*2000016*"]
["Sashimi Salad 11.10","*2000016*",null,"Sashimi Salad 11.10","*2000016*",null,"Sashimi Salad 11.10","*2000016*",null,"Sashimi Salad 11.10","*2000016*"]
["Sashimi Salad 11.10","*2000016*",null,"Sashimi Salad 11.10","*2000016*",null,"Sashimi Salad 11.10","*2000016*",null,"Sashimi Salad 11.10","*2000016*"]
["Sashimi Salad 11.10","*2000016*",null,"Sashimi Salad 11.10","*2000016*",null,"Sashimi Salad 11.10","*2000016*",null,"Sashimi Salad 11.10","*2000016*"]
["Sashimi Salad 11.10","*2000016*",null,"Sashimi Salad 11.10","*2000016*",null,"Sashimi Salad 11.10","*2000016*",null,"Sashimi Salad 11.10","*2000016*"]
["Sashimi Salad 11.10","*2000016*",null,"Sashimi Salad 11.10","*2000016*",null,"Sashimi Salad 11.10","*2000016*",null,"Sashimi Salad 11.10","*2000016*"]
["Sashimi Salad 11.10","*2000016*",null,"Sashimi Salad 11.10","*2000016*",null,"Sashimi Salad 11.10","*2000016*",null,"Sashimi Salad 11.10","*2000016*"]
["Sashimi Salad 11.10","*2000016*",null,"Sashimi Salad 11.10","*2000016*",null,"Sashimi Salad 11.10","*2000016*",null,"Sashimi Salad 11.10","*2000016*"]
["Sashimi Salad 11.10","*2000016*",null,"Sashimi Salad 11.10","*2000016*",null,"Sashimi Salad 11.10","*2000016*",null,"Sashimi Salad 11.10","*2000016*"]
["Sashimi Salad 11.10","*2000016*",null,"Sashimi Salad 11.10","*2000016*",null,"Sashimi Salad 11.10","*2000016*",null,"Sashimi Salad 11.10","*2000016*"]
["Sashimi Salad 11.10","*2000016*",null,"Sashimi Salad 11.10","*2000016*",null,"Sashimi Salad 11.10","*2000016*",null,"Sashimi Salad 11.10","*2000016*"]
["Sashimi Salad 11.10","*2000016*",null,"Sashimi Salad 11.10","*2000016*",null,"Sashimi Salad 11.10","*2000016*",null,"Sashimi Salad 11.10","*2000016*"]
["Sashimi Salad 11.10","*2000016*",null,"Sashimi Salad 11.10","*2000016*",null,"Sashimi Salad 11.10","*2000016*",null,"Sashimi Salad 11.10","*2000016*"]
["Sashimi Salad 11.10","*2000016*",null,"Sashimi Salad 11.10","*2000016*",null,"Sashimi Salad 11.10","*2000016*",null,"Sashimi Salad 11.10","*2000016*"]
["Sashimi Salad 11.10","*2000016*",null,"Sashimi Salad 11.10","*2000016*",null,"Sashimi Salad 11.10","*2000016*",null,"Sashimi Salad 11.10","*2000016*"]
["Sashimi Salad 11.10","*2000016*",null,"Sashimi Salad 11.10","*2000016*",null,"Sashimi Salad 11.10","*2000016*",null,"Sashimi Salad 11.10","*2000016*"]
["Sashimi Salad 11.10","*2000016*",null,"Sashimi Salad 11.10","*2000016*",null,"Sashimi Salad 11.10","*2000016*",null,"Sashimi Salad 11.10","*2000016*"]
["Sashimi Salad 11.10","*2000016*",null,"Sashimi Salad 11.10","*2000016*",null,"Sashimi Salad 11.10","*2000016*",null,"Sashimi Salad 11.10","*2000016*"]

{"sheet":"Mashgin","index":5,"n_rows":93,"n_cols":3,"rows_kept":93,"cut":false,"hidden":false,"merged":[]}
[null,"Image","Name"]
[null,null,"GG_1"]
[null,null,"GG_2"]
[null,null,"GG_3"]
[null,null,"GG_4"]
[null,null,"GG_5"]
[null,null,"GG_6"]
[null,null,"GG_7"]
[null,null,"GG_8"]
[null,null,"GG_9"]
[null,null,"GG_10"]
[null,null,"GG_11"]
[null,null,"GG_12"]
[null,null,"GG_13"]
[null,null,"GG_14"]
[null,null,"GG_15"]
[null,null,"GG_16"]
[null,null,"GG_17"]
[null,null,"GG_18"]
[null,null,"GG_19"]
[null,null,"GG_20"]
[null,null,"GG_21"]
[null,null,"GG_22"]
[null,null,"GG_23"]
[null,null,"GG_24"]
[null,null,"GG_25"]
[null,null,"GG_26"]
[null,null,"GG_27"]
[null,null,"GG_28"]
[null,null,"GG_29"]
[null,null,"GG_30"]
[null,null,"GG_31"]
[null,null,"GG_32"]
[null,null,"GG_33"]
[null,null,"GG_34"]
[null,null,"GG_35"]
[null,null,"GG_36"]
[null,null,"GG_37"]
[null,null,"GG_38"]
[null,null,"GG_39"]
[null,null,"GG_40"]
[null,null,"GG_41"]
[null,null,"GG_42"]
[null,null,"GG_43"]
[null,null,"GG_44"]
[null,null,"GG_45"]
[null,null,"GG_46"]
[null,null,"GG_47"]
[null,null,"GG_48"]
[null,null,"GG_49"]
[null,null,"GG_50"]
[null,null,"PLUS"]
[null,null,"_1"]
[null,null,"_1A"]
[null,null,"_1B"]
[null,null,"_2"]
[null,null,"_2A"]
[null,null,"_2B"]
[null,null,"_2C"]
[null,null,"_3"]
[null,null,"_4"]
[null,null,"_5"]
[null,null,"_6"]
[null,null,"_7"]
[null,null,"_8"]
[null,null,"_9"]
[null,null,"_10"]
[null,null,"_C1"]
[null,null,"_C2"]
[null,null,"_C3"]
[null,null,"_C4"]
[null,null,"_C5"]
[null,null,"_C6"]
[null,null,"_F1"]
[null,null,"_F2"]
[null,null,"_F3"]
[null,null,"_F4"]
[null,null,"_F5"]
[null,null,"_F6"]
[null,null,"_G1"]
[null,null,"_G2"]
[null,null,"_G3"]
[null,null,"_G4"]
[null,null,"_M1"]
[null,null,"_M2"]
[null,null,"_M3"]
[null,null,"_M4"]
[null,null,"_S1"]
[null,null,"_S2"]
[null,null,"_S3"]
[null,null,"_S4"]
[null,null,"_S5"]
[null,null,"SIDE"]

{"sheet":"Barcodes_old","index":6,"n_rows":231,"n_cols":5,"rows_kept":231,"cut":false,"hidden":false,"merged":[]}
["Print","*2000016*","Sashimi Salad 11.10"]
["SKU #","Bar Code"]
[2000000,"*2000000*","ChefSashi 12.65",null,"For feedback, visit the corporate"]
[{"$f":"Barcodes_old!A3+1","v":2000001},"*2000001*","LG Combo 12.65",null,"Services & Real Estate Website"]
[{"$f":"Barcodes_old!A4+1","v":2000002},"*2000002*","SL Combo 11.10"]
[{"$f":"Barcodes_old!A5+1","v":2000003},"*2000003*","Chirashi Bowl 11.10"]
[{"$f":"Barcodes_old!A6+1","v":2000004},"*2000004*","Roll #1 9.25"]
[{"$f":"Barcodes_old!A7+1","v":2000005},"*2000005*","Roll #2 11.10"]
[{"$f":"Barcodes_old!A8+1","v":2000006},"*2000006*","Sushi Roll 7.25"]
[{"$f":"Barcodes_old!A9+1","v":2000007},"*2000007*","Veg Roll 5.70"]
[{"$f":"Barcodes_old!A10+1","v":2000008},"*2000008*","2 Rolls 13.35"]
[{"$f":"Barcodes_old!A11+1","v":2000009},"*2000009*","Vegan Sumashi 9.80"]
[{"$f":"Barcodes_old!A12+1","v":2000010},"*2000010*","Rpoke 11.30"]
[{"$f":"Barcodes_old!A13+1","v":2000011},"*2000011*"]
[{"$f":"Barcodes_old!A14+1","v":2000012},"*2000012*","NI/SA PIECE 2.60 (__)"]
[{"$f":"Barcodes_old!A15+1","v":2000013},"*2000013*"]
[{"$f":"Barcodes_old!A16+1","v":2000014},"*2000014*"]
[{"$f":"Barcodes_old!A17+1","v":2000015},"*2000015*"]
[{"$f":"Barcodes_old!A18+1","v":2000016},"*2000016*","Sashimi Salad 11.10"]
[{"$f":"Barcodes_old!A19+1","v":2000017},"*2000017*","Avocado 1.70"]
[{"$f":"Barcodes_old!A20+1","v":2000018},"*2000018*","Lpoke 14.15"]
[{"$f":"Barcodes_old!A21+1","v":2000019},"*2000019*"]
[{"$f":"Barcodes_old!A22+1","v":2000020},"*2000020*","Shack $7.45"]
[{"$f":"Barcodes_old!A23+1","v":2000021},"*2000021*","Dbl Shack $10.65"]
[{"$f":"Barcodes_old!A24+1","v":2000022},"*2000022*","Shroom Shack $10.65"]
[{"$f":"Barcodes_old!A25+1","v":2000023},"*2000023*","Shack Stack $13.35"]
[{"$f":"Barcodes_old!A26+1","v":2000024},"*2000024*","Shack Fries $3.80"]
[{"$f":"Barcodes_old!A27+1","v":2000025},"*2000025*","Shack Combo $11.24"]
[{"$f":"Barcodes_old!A28+1","v":2000026},"*2000026*","Dbl Shack Combo $14.44"]
[{"$f":"Barcodes_old!A29+1","v":2000027},"*2000027*","Shroom Shack Combo $14.44"]
[{"$f":"Barcodes_old!A30+1","v":2000028},"*2000028*","Shack Stack Combo $17.10"]
[{"$f":"Barcodes_old!A31+1","v":2000029},"*2000029*"]
[{"$f":"Barcodes_old!A32+1","v":2000030},"*2000030*"]
[{"$f":"Barcodes_old!A33+1","v":2000031},"*2000031*"]
[{"$f":"Barcodes_old!A34+1","v":2000032},"*2000032*","Action 9.60"]
[{"$f":"Barcodes_old!A35+1","v":2000033},"*2000033*"]
[{"$f":"Barcodes_old!A36+1","v":2000034},"*2000034*","Global 9.60"]
[{"$f":"Barcodes_old!A37+1","v":2000035},"*2000035*"]
[{"$f":"Barcodes_old!A38+1","v":2000036},"*2000036*"]
[{"$f":"Barcodes_old!A39+1","v":2000037},"*2000037*"]
[{"$f":"Barcodes_old!A40+1","v":2000038},"*2000038*"]
[{"$f":"Barcodes_old!A41+1","v":2000039},"*2000039*"]
[{"$f":"Barcodes_old!A42+1","v":2000040},"*2000040*"]
[{"$f":"Barcodes_old!A43+1","v":2000041},"*2000041*","9.75 iburger"]
[{"$f":"Barcodes_old!A44+1","v":2000042},"*2000042*"]
[{"$f":"Barcodes_old!A45+1","v":2000043},"*2000043*"]
[{"$f":"Barcodes_old!A46+1","v":2000044},"*2000044*"]
[{"$f":"Barcodes_old!A47+1","v":2000045},"*2000045*"]
[{"$f":"Barcodes_old!A48+1","v":2000046},"*2000046*"]
[{"$f":"Barcodes_old!A49+1","v":2000047},"*2000047*"]
[{"$f":"Barcodes_old!A50+1","v":2000048},"*2000048*"]
[{"$f":"Barcodes_old!A51+1","v":2000049},"*2000049*"]
[{"$f":"Barcodes_old!A52+1","v":2000050},"*2000050*"]
[{"$f":"Barcodes_old!A53+1","v":2000051},"*2000051*"]
[{"$f":"Barcodes_old!A54+1","v":2000052},"*2000052*"]
[{"$f":"Barcodes_old!A55+1","v":2000053},"*2000053*"]
[{"$f":"Barcodes_old!A56+1","v":2000054},"*2000054*"]
[{"$f":"Barcodes_old!A57+1","v":2000055},"*2000055*"]
[{"$f":"Barcodes_old!A58+1","v":2000056},"*2000056*"]
[{"$f":"Barcodes_old!A59+1","v":2000057},"*2000057*"]
[{"$f":"Barcodes_old!A60+1","v":2000058},"*2000058*"]
[{"$f":"Barcodes_old!A61+1","v":2000059},"*2000059*"]
[{"$f":"Barcodes_old!A62+1","v":2000060},"*2000060*"]
[{"$f":"Barcodes_old!A63+1","v":2000061},"*2000061*"]
[{"$f":"Barcodes_old!A64+1","v":2000062},"*2000062*"]
[{"$f":"Barcodes_old!A65+1","v":2000063},"*2000063*"]
[{"$f":"Barcodes_old!A66+1","v":2000064},"*2000064*"]
[{"$f":"Barcodes_old!A67+1","v":2000065},"*2000065*"]
[{"$f":"Barcodes_old!A68+1","v":2000066},"*2000066*"]
[{"$f":"Barcodes_old!A69+1","v":2000067},"*2000067*"]
[{"$f":"Barcodes_old!A70+1","v":2000068},"*2000068*","11.99 Salsa"]
[{"$f":"Barcodes_old!A71+1","v":2000069},"*2000069*","13.99 Salsa "]
[{"$f":"Barcodes_old!A72+1","v":2000070},"*2000070*","3.50 Salsa "]
[{"$f":"Barcodes_old!A73+1","v":2000071},"*2000071*"]
[{"$f":"Barcodes_old!A74+1","v":2000072},"*2000072*"]
[{"$f":"Barcodes_old!A75+1","v":2000073},"*2000073*"]
[{"$f":"Barcodes_old!A76+1","v":2000074},"*2000074*"]
[{"$f":"Barcodes_old!A77+1","v":2000075},"*2000075*"]
[{"$f":"Barcodes_old!A78+1","v":2000076},"*2000076*"]
[{"$f":"Barcodes_old!A79+1","v":2000077},"*2000077*"]
[{"$f":"Barcodes_old!A80+1","v":2000078},"*2000078*"]
[{"$f":"Barcodes_old!A81+1","v":2000079},"*2000079*"]
[{"$f":"Barcodes_old!A82+1","v":2000080},"*2000080*"]
[{"$f":"Barcodes_old!A83+1","v":2000081},"*2000081*"]
[{"$f":"Barcodes_old!A84+1","v":2000082},"*2000082*"]
[{"$f":"Barcodes_old!A85+1","v":2000083},"*2000083*"]
[{"$f":"Barcodes_old!A86+1","v":2000084},"*2000084*"]
[{"$f":"Barcodes_old!A87+1","v":2000085},"*2000085*"]
[{"$f":"Barcodes_old!A88+1","v":2000086},"*2000086*"]
[{"$f":"Barcodes_old!A89+1","v":2000087},"*2000087*"]
[{"$f":"Barcodes_old!A90+1","v":2000088},"*2000088*","RA Kitchen Sandwich "]
[{"$f":"Barcodes_old!A91+1","v":2000089},"*2000089*"]
[{"$f":"Barcodes_old!A92+1","v":2000090},"*2000090*"]
[{"$f":"Barcodes_old!A93+1","v":2000091},"*2000091*"]
[{"$f":"Barcodes_old!A94+1","v":2000092},"*2000092*"]
[{"$f":"Barcodes_old!A95+1","v":2000093},"*2000093*"]
[{"$f":"Barcodes_old!A96+1","v":2000094},"*2000094*"]
[{"$f":"Barcodes_old!A97+1","v":2000095},"*2000095*"]
[{"$f":"Barcodes_old!A98+1","v":2000096},"*2000096*"]
[{"$f":"Barcodes_old!A99+1","v":2000097},"*2000097*"]
[{"$f":"Barcodes_old!A100+1","v":2000098},"*2000098*"]
[{"$f":"Barcodes_old!A101+1","v":2000099},"*2000099*"]
[{"$f":"Barcodes_old!A102+1","v":2000100},"*2000100*"]
[{"$f":"Barcodes_old!A103+1","v":2000101},"*2000101*"]
[{"$f":"Barcodes_old!A104+1","v":2000102},"*2000102*"]
[{"$f":"Barcodes_old!A105+1","v":2000103},"*2000103*"]
[{"$f":"Barcodes_old!A106+1","v":2000104},"*2000104*"]
[{"$f":"Barcodes_old!A107+1","v":2000105},"*2000105*"]
[{"$f":"Barcodes_old!A108+1","v":2000106},"*2000106*"]
[{"$f":"Barcodes_old!A109+1","v":2000107},"*2000107*"]
[{"$f":"Barcodes_old!A110+1","v":2000108},"*2000108*"]
[{"$f":"Barcodes_old!A111+1","v":2000109},"*2000109*"]
[{"$f":"Barcodes_old!A112+1","v":2000110},"*2000110*"]
[{"$f":"Barcodes_old!A113+1","v":2000111},"*2000111*"]
[{"$f":"Barcodes_old!A114+1","v":2000112},"*2000112*"]
[{"$f":"Barcodes_old!A115+1","v":2000113},"*2000113*"]
[{"$f":"Barcodes_old!A116+1","v":2000114},"*2000114*"]
[{"$f":"Barcodes_old!A117+1","v":2000115},"*2000115*"]
[{"$f":"Barcodes_old!A118+1","v":2000116},"*2000116*"]
[{"$f":"Barcodes_old!A119+1","v":2000117},"*2000117*"]
[{"$f":"Barcodes_old!A120+1","v":2000118},"*2000118*"]
[{"$f":"Barcodes_old!A121+1","v":2000119},"*2000119*"]
[{"$f":"Barcodes_old!A122+1","v":2000120},"*2000120*","7.60."]
[{"$f":"Barcodes_old!A123+1","v":2000121},"*2000121*",5.95]
[{"$f":"Barcodes_old!A124+1","v":2000122},"*2000122*",7.35]
[{"$f":"Barcodes_old!A125+1","v":2000123},"*2000123*",8.25]
[{"$f":"Barcodes_old!A126+1","v":2000124},"*2000124*",2.95]
[{"$f":"Barcodes_old!A127+1","v":2000125},"*2000125*"]
[{"$f":"Barcodes_old!A128+1","v":2000126},"*2000126*"]
[{"$f":"Barcodes_old!A129+1","v":2000127},"*2000127*"]
[{"$f":"Barcodes_old!A130+1","v":2000128},"*2000128*"]
[{"$f":"Barcodes_old!A131+1","v":2000129},"*2000129*"]
[{"$f":"Barcodes_old!A132+1","v":2000130},"*2000130*","Discount Dessert 1.10"]
[{"$f":"Barcodes_old!A133+1","v":2000131},"*2000131*","Cookie .95"]
[{"$f":"Barcodes_old!A134+1","v":2000132},"*2000132*","Dessert 2.95"]
[{"$f":"Barcodes_old!A135+1","v":2000133},"*2000133*","Dessert 3.90"]
[{"$f":"Barcodes_old!A136+1","v":2000134},"*2000134*","Dessert 1.45"]
[{"$f":"Barcodes_old!A137+1","v":2000135},"*2000135*","Dessert 2.90"]
[{"$f":"Barcodes_old!A138+1","v":2000136},"*2000136*","Dessert 2.35"]
[{"$f":"Barcodes_old!A139+1","v":2000137},"*2000137*","Dessert 2.15"]
[{"$f":"Barcodes_old!A140+1","v":2000138},"*2000138*"]
[{"$f":"Barcodes_old!A141+1","v":2000139},"*2000139*"]
[{"$f":"Barcodes_old!A142+1","v":2000140},"*2000140*","Toum 10.95"]
[{"$f":"Barcodes_old!A143+1","v":2000141},"*2000141*","Toum 11.95"]
[{"$f":"Barcodes_old!A144+1","v":2000142},"*2000142*","Toum 12.95"]
[{"$f":"Barcodes_old!A145+1","v":2000143},"*2000143*","Toum 15.95"]
[{"$f":"Barcodes_old!A146+1","v":2000144},"*2000144*"]
[{"$f":"Barcodes_old!A147+1","v":2000145},"*2000145*"]
[{"$f":"Barcodes_old!A148+1","v":2000146},"*2000146*"]
[{"$f":"Barcodes_old!A149+1","v":2000147},"*2000147*"]
[{"$f":"Barcodes_old!A150+1","v":2000148},"*2000148*"]
[{"$f":"Barcodes_old!A151+1","v":2000149},"*2000149*"]
[{"$f":"Barcodes_old!A152+1","v":2000150},"*2000150*"]
[{"$f":"Barcodes_old!A153+1","v":2000151},"*2000151*"]
[{"$f":"Barcodes_old!A154+1","v":2000152},"*2000152*"]
[{"$f":"Barcodes_old!A155+1","v":2000153},"*2000153*"]
[{"$f":"Barcodes_old!A156+1","v":2000154},"*2000154*"]
[{"$f":"Barcodes_old!A157+1","v":2000155},"*2000155*"]
[{"$f":"Barcodes_old!A158+1","v":2000156},"*2000156*"]
[{"$f":"Barcodes_old!A159+1","v":2000157},"*2000157*"]
[{"$f":"Barcodes_old!A160+1","v":2000158},"*2000158*"]
[{"$f":"Barcodes_old!A161+1","v":2000159},"*2000159*"]
[{"$f":"Barcodes_old!A162+1","v":2000160},"*2000160*"]
[{"$f":"Barcodes_old!A163+1","v":2000161},"*2000161*"]
[{"$f":"Barcodes_old!A164+1","v":2000162},"*2000162*"]
[{"$f":"Barcodes_old!A165+1","v":2000163},"*2000163*"]
[{"$f":"Barcodes_old!A166+1","v":2000164},"*2000164*"]
[{"$f":"Barcodes_old!A167+1","v":2000165},"*2000165*"]
[{"$f":"Barcodes_old!A168+1","v":2000166},"*2000166*"]
[{"$f":"Barcodes_old!A169+1","v":2000167},"*2000167*"]
[{"$f":"Barcodes_old!A170+1","v":2000168},"*2000168*"]
[{"$f":"Barcodes_old!A171+1","v":2000169},"*2000169*"]
[{"$f":"Barcodes_old!A172+1","v":2000170},"*2000170*"]
[{"$f":"Barcodes_old!A173+1","v":2000171},"*2000171*"]
[{"$f":"Barcodes_old!A174+1","v":2000172},"*2000172*","11.90 Saffron"]
[{"$f":"Barcodes_old!A175+1","v":2000173},"*2000173*","13.90 Saffron"]
[{"$f":"Barcodes_old!A176+1","v":2000174},"*2000174*","2.00 Saffron"]
[{"$f":"Barcodes_old!A177+1","v":2000175},"*2000175*","4.00 Saffron "]
[{"$f":"Barcodes_old!A178+1","v":2000176},"*2000176*"]
[{"$f":"Barcodes_old!A179+1","v":2000177},"*2000177*","Bing 9.95"]
[{"$f":"Barcodes_old!A180+1","v":2000178},"*2000178*","Bing 11.95"]
[{"$f":"Barcodes_old!A181+1","v":2000179},"*2000179*","Bing 12.95"]
[{"$f":"Barcodes_old!A182+1","v":2000180},"*2000180*","Bing 4.95"]
[{"$f":"Barcodes_old!A183+1","v":2000181},"*2000181*"]
[{"$f":"Barcodes_old!A184+1","v":2000182},"*2000182*"]
[{"$f":"Barcodes_old!A185+1","v":2000183},"*2000183*","TABIB 11.95 "]
[{"$f":"Barcodes_old!A186+1","v":2000184},"*2000184*","TABIB 10.95"]
[{"$f":"Barcodes_old!A187+1","v":2000185},"*2000185*","TABIB 9.95"]
[{"$f":"Barcodes_old!A188+1","v":2000186},"*2000186*","TABIB 2.50"]
[{"$f":"Barcodes_old!A189+1","v":2000187},"*2000187*"]
[{"$f":"Barcodes_old!A190+1","v":2000188},"*2000188*"]
[{"$f":"Barcodes_old!A191+1","v":2000189},"*2000189*"]
[{"$f":"Barcodes_old!A192+1","v":2000190},"*2000190*"]
[{"$f":"Barcodes_old!A193+1","v":2000191},"*2000191*"]
[{"$f":"Barcodes_old!A194+1","v":2000192},"*2000192*","5.25 CS"]
[{"$f":"Barcodes_old!A195+1","v":2000193},"*2000193*","4.75 CS"]
[{"$f":"Barcodes_old!A196+1","v":2000194},"*2000194*","6.25 CS"]
[{"$f":"Barcodes_old!A197+1","v":2000195},"*2000195*","5.50 CS/RS"]
[{"$f":"Barcodes_old!A198+1","v":2000196},"*2000196*","5.00 CS"]
[{"$f":"Barcodes_old!A199+1","v":2000197},"*2000197*","4.00 CS"]
[{"$f":"Barcodes_old!A200+1","v":2000198},"*2000198*"]
[{"$f":"Barcodes_old!A201+1","v":2000199},"*2000199*","Veggie Omelette 3.45"]
[{"$f":"Barcodes_old!A202+1","v":2000200},"*2000200*","Stuffed Omelette 4.70"]
[{"$f":"Barcodes_old!A203+1","v":2000201},"*2000201*","Che/Veg omelette 3.45"]
[{"$f":"Barcodes_old!A204+1","v":2000202},"*2000202*","bs #1 3.70"]
[{"$f":"Barcodes_old!A205+1","v":2000203},"*2000203*","bs #2 4.40"]
[{"$f":"Barcodes_old!A206+1","v":2000204},"*2000204*","egg 1.25"]
[{"$f":"Barcodes_old!A207+1","v":2000205},"*2000205*","side protein 1.70"]
[{"$f":"Barcodes_old!A208+1","v":2000206},"*2000206*","One Pancake 1.10 "]
[{"$f":"Barcodes_old!A209+1","v":2000207},"*2000207*","French Toast (2) 4.60"]
[{"$f":"Barcodes_old!A210+1","v":2000208},"*2000208*","extra cheese 1.20"]
[{"$f":"Barcodes_old!A211+1","v":2000209},"*2000209*"]
[{"$f":"Barcodes_old!A212+1","v":2000210},"*2000210*"]
[{"$f":"Barcodes_old!A213+1","v":2000211},"*2000211*"]
[{"$f":"Barcodes_old!A214+1","v":2000212},"*2000212*"]
[{"$f":"Barcodes_old!A215+1","v":2000213},"*2000213*"]
[{"$f":"Barcodes_old!A216+1","v":2000214},"*2000214*"]
[{"$f":"Barcodes_old!A217+1","v":2000215},"*2000215*"]
[{"$f":"Barcodes_old!A218+1","v":2000216},"*2000216*"]
[{"$f":"Barcodes_old!A219+1","v":2000217},"*2000217*"]
[{"$f":"Barcodes_old!A220+1","v":2000218},"*2000218*"]
[{"$f":"Barcodes_old!A221+1","v":2000219},"*2000219*"]
[{"$f":"Barcodes_old!A222+1","v":2000220},"*2000220*"]
[{"$f":"Barcodes_old!A223+1","v":2000221},"*2000221*","PB&J 4.00"]
[{"$f":"Barcodes_old!A224+1","v":2000222},"*2000222*","Ham 6.15"]
[{"$f":"Barcodes_old!A225+1","v":2000223},"*2000223*","Turkey 6.15"]
[{"$f":"Barcodes_old!A226+1","v":2000224},"*2000224*","Tuna 6.10"]
[{"$f":"Barcodes_old!A227+1","v":2000225},"*2000225*"]
[{"$f":"Barcodes_old!A228+1","v":2000226},"*2000226*"]
[{"$f":"Barcodes_old!A229+1","v":2000227},"*2000227*"]
[{"$f":"Barcodes_old!A230+1","v":2000228},"*2000228*"]

{"sheet":"Sheet3","index":7,"n_rows":87,"n_cols":3,"rows_kept":87,"cut":false,"hidden":false,"merged":[]}
["Veggie Omelette 3.45","_1",1]
["Shack $7.45","_1",2]
["extra cheese 1.20","_10",1]
["NEW SHACK ITEM","_10",2]
["Action 9.60","_1A",0]
["Global 9.60","_1B",0]
["Stuffed Omelette 4.70","_2",1]
["Dbl Shack $10.65","_2",2]
["11.99 Salsa","_2A",0]
["13.99 Salsa ","_2B",0]
["3.50 Salsa ","_2C",0]
["Che/Veg omelette 3.45","_3",1]
["Shroom Shack $10.65","_3",2]
["bs #1 3.70","_4",1]
["Shack Stack $13.35","_4",2]
["bs #2 4.40","_5",1]
["Shack Fries $3.80","_5",2]
["egg 1.25","_6",1]
["Shack Combo $11.24","_6",2]
["side protein 1.70","_7",1]
["Dbl Shack Combo $14.44","_7",2]
["One Pancake 1.10 ","_8",1]
["Shroom Shack Combo $14.44","_8",2]
["French Toast (2) 4.60","_9",1]
["Shack Stack Combo $17.10","_9",2]
["9.75 iburger","_C1",0]
["RA Kitchen Sandwich ","_C2",0]
["Discount Dessert 1.10","_C3",0]
["Cookie .95","_C4",0]
["Dessert 2.95","_C6",0]
["Restaurant Partner 1","_F1",2]
["Restaurant Partner 2","_F2",2]
["Restaurant Partner 3","_F3",2]
["Restaurant Partner 4","_F4",2]
["Restaurant Partner 5","_F5",2]
["Restaurant Partner 6","_F6",2]
["Dessert 3.90","_G1",0]
["Dessert 1.45","_G2",0]
["Dessert 2.90","_G3",0]
["Dessert 2.35","_G4",0]
["PB&J 4.00","_M1",0]
["Ham 6.15","_M2",0]
["Turkey 6.15","_M3",0]
["Tuna 6.10","_M4",0]
["7.60.","_S1",0]
[5.95,"_S2",0]
[7.35,"_S3",0]
[8.25,"_S4",0]
[2.95,"_S5",0]
["Dessert 2.15","GG_1",0]
["Bing 9.95","GG_10",0]
["Bing 11.95","GG_11",0]
["Bing 12.95","GG_12",0]
["Bing 4.95","GG_13",0]
["TABIB 11.95 ","GG_14",0]
["TABIB 10.95","GG_15",0]
["TABIB 9.95","GG_16",0]
["TABIB 2.50","GG_17",0]
["5.25 CS","GG_18",0]
["4.75 CS","GG_19",0]
["Toum 10.95","GG_2",0]
["6.25 CS","GG_20",0]
["5.50 CS/RS","GG_21",0]
["5.00 CS","GG_22",0]
["4.00 CS","GG_23",0]
["ChefSashi 12.65","GG_24",0]
["LG Combo 12.65","GG_25",0]
["SL Combo 11.10","GG_26",0]
["Chirashi Bowl 11.10","GG_27",0]
["Roll #1 9.25","GG_28",0]
["Roll #2 11.10","GG_29",0]
["Toum 11.95","GG_3",0]
["Sushi Roll 7.25","GG_30",0]
["Veg Roll 5.70","GG_31",0]
["2 Rolls 13.35","GG_32",0]
["Vegan Sumashi 9.80","GG_33",0]
["Rpoke 11.30","GG_34",0]
["NI/SA PIECE 2.60 (__)","GG_35",0]
["Sashimi Salad 11.10","GG_36",0]
["Avocado 1.70","GG_37",0]
["Lpoke 14.15","GG_38",0]
["Toum 12.95","GG_4",0]
["Toum 15.95","GG_5",0]
["11.90 Saffron","GG_6",0]
["13.90 Saffron","GG_7",0]
["2.00 Saffron","GG_8",0]
["4.00 Saffron ","GG_9",0]